BEGIN:VCALENDAR
VERSION:2.0
PRODID:-//CHILDREN AT RISK - ECPv6.6.4.2//NONSGML v1.0//EN
CALSCALE:GREGORIAN
METHOD:PUBLISH
X-WR-CALNAME:CHILDREN AT RISK
X-ORIGINAL-URL:https://childrenatrisk.org
X-WR-CALDESC:Events for CHILDREN AT RISK
REFRESH-INTERVAL;VALUE=DURATION:PT1H
X-Robots-Tag:noindex
X-PUBLISHED-TTL:PT1H
BEGIN:VTIMEZONE
TZID:UTC
BEGIN:STANDARD
TZOFFSETFROM:+0000
TZOFFSETTO:+0000
TZNAME:UTC
DTSTART:20240101T000000
END:STANDARD
END:VTIMEZONE
BEGIN:VEVENT
DTSTART;TZID=UTC:20240531T183000
DTEND;TZID=UTC:20240531T220000
DTSTAMP:20260423T011350
CREATED:20240122T195614Z
LAST-MODIFIED:20241021T202624Z
UID:35430-1717180200-1717192800@childrenatrisk.org
SUMMARY:Stand Up for Children
DESCRIPTION:Mark your calendars for Friday\, May 31st! CHILDREN AT RISK is bringing back the Stand Up for Children Gala\, an evening that will feature Emmy-award winning actor and comedian Dana Carvey\, lots of laughs\, and an opportunity to improve the lives of Texas children. \nWe are delighted to have April & Wells McGee as our Gala Chairs\, Children’s Memorial Hermann Hospital as our Corporate Honoree\, and Stacey & Al Lindseth as our Community Honorees. \nOver the past three decades\, CHILDREN AT RISK has evolved into one of the largest statewide child advocacy groups in America and the premier resource on children‘s issues in Texas. We tirelessly champion the rights and well-being of all children in Texas with an unwavering dedication to enacting systemic change while considering the whole child. As we look to the future\, our commitment to driving macro-level change remains steadfast. \nIn past years\, Stand Up has raised critical funds for CHILDREN AT RISK to support our mission to improve the quality of life for children across Texas. We hope to welcome you for a memorable evening of cocktails\, dining\, auction\, and not-to-be-missed comedy entertainment!   \nFor table and ticket opportunities\, click on the button below. We greatly appreciate your support and look forward to the opportunity to collaborate for a brighter future for children. \n			\n				\n				\n				\n				\n				ABOUT DANA CARVEY \n			\n				\n				\n				\n				\n				\n			\n				\n				\n				\n				\n				Dana Carvey is best known for his iconic and indelible SATURDAY NIGHT LIVE characters – most memorably Church Lady\, Grumpy Old Man\, Hans\, and of course Garth – Mike Myers’ “excellent Co-Host” on the classic sketch turned feature film\, WAYNE’S WORLD. Carvey has received much praise for his uncanny comedic impersonations of American political figures\, including George HW Bush\, Ross Perot\, Jerry Brown\, and Bob Dole. In 2016\, Dana released a Netflix Special “STRAIGHT WHITE MALE\, 60” to much acclaim. You can now hear Dana on his chart-topping hit podcast FLY ON THE WALL which he co-hosts with friend and comic David Spade\, and voicing several characters on the animated show MULLIGAN\, produced by Tina Fey and Robert Carlock. \n			\n			\n				\n				\n				\n				\n			\n				\n				\n				\n				\n				\n				\n				Sponsorship Opportunities\n			\n			\n				\n				\n				\n				\n				\n				Purchase Tables and Tickets\n			\n			\n				\n				\n				\n				\n			\n				\n				\n				\n				\n				\n				\n			\n				\n				\n				\n				\n			\n				\n				\n				\n				\n				\n				\n			\n				\n				\n				\n				\n			\n				\n				\n				\n				\n				\n				\n				\n				\n				\n				\n				Thank You to our Sponsors!\n			\n				\n				\n				\n				\n				Platinum Sponsor \n			\n				\n				\n				\n				\n				\n			\n				\n				\n				\n				\n				Gary R. Peterson \n			\n				\n				\n				\n				\n				Gold Sponsor \n			\n				\n				\n				\n				\n				\n			\n				\n				\n				\n				\n				Stacey & Al Lindseth \nApril & Wells McGee \nSilver Sponsor \nSippi & Ajay Khurana \nFlorence Wells McGee \nBronze Sponsor \nDrs. Claire Bocchini & Wilsom Lam \nNancy and Paul Darst \nDoe & Henry Florsheim \nHouston Texans \nCharanya and Vishwas Iyengar \nClarisa Ramirez & Dustin Meador \nSuzan & Jeremy Samuels \nJenny & John Seo \nUTHealth Pediatrics \nPhoto Booth Sponsor \nNorth Texas Commission \nVIP Couples \nShawn & Donald Bowers \nPam Humphrey – CHUBB \nAsha and Joseph George \nChris Wallace \nKrista Frazier and Larry Wisniewski \nKaty and Ed Wolff \n			\n			\n				\n				\n				\n				\n			\n				\n				\n				\n				\n				\n				\n			\n				\n				\n				\n				\n			\n				\n				\n				\n				\n				\n				\n				\n				\n				\n				\n				For more information\, please contact Michelle Bowman at mbowman@childrenatrisk.org or 713.301.6970.
URL:https://childrenatrisk.org/event/stand-up-for-children2024/
LOCATION:Hilton Americas – Houston\, 1600 Lamar St\, Houston\, TX\, 77010\, United States
END:VEVENT
END:VCALENDAR