BEGIN:VCALENDAR
VERSION:2.0
PRODID:-//CHILDREN AT RISK - ECPv6.6.4.2//NONSGML v1.0//EN
CALSCALE:GREGORIAN
METHOD:PUBLISH
X-WR-CALNAME:CHILDREN AT RISK
X-ORIGINAL-URL:https://childrenatrisk.org
X-WR-CALDESC:Events for CHILDREN AT RISK
REFRESH-INTERVAL;VALUE=DURATION:PT1H
X-Robots-Tag:noindex
X-PUBLISHED-TTL:PT1H
BEGIN:VTIMEZONE
TZID:UTC
BEGIN:STANDARD
TZOFFSETFROM:+0000
TZOFFSETTO:+0000
TZNAME:UTC
DTSTART:20260101T000000
END:STANDARD
END:VTIMEZONE
BEGIN:VEVENT
DTSTART;TZID=UTC:20260611T100000
DTEND;TZID=UTC:20260611T120000
DTSTAMP:20260422T220610
CREATED:20251210T231700Z
LAST-MODIFIED:20260415T223124Z
UID:39823-1781172000-1781179200@childrenatrisk.org
SUMMARY:2026 Early Childhood Education Summit
DESCRIPTION:REGISTER\n			\n			\n				\n				\n				\n				\n				\n				\n				\n				\n				\n				\n			\n				\n				\n				\n				\n				\n\n\nCHILDREN AT RISK will convene a multi-sector conversation focused on the well-being of young children and the interconnected factors that shape their development. This year’s virtual summit will bring together experts to explore the many dimensions of early childhood\, including access to high-quality child care\, culturally informed supports for children with diverse needs\, and the broader conditions that shape family well-being\, such as housing stability\, food security\, and federal policy. Discussions will highlight how systems intersect while exploring solutions to ensure every young child has the opportunity to learn\, grow\, and thrive. \nThis summit is presented in partnership with the Texas Family Leadership Council (TXFLC).  \n\n\nWant to join us as a partner or sponsor on an upcoming Learning Event? Reach out to learning@childrenatrisk.org for more information. 
URL:https://childrenatrisk.org/event/the-intersection-of-early-childhood-children-of-immigrants/
LOCATION:Zoom
CATEGORIES:ECE,Education,Immigration,Learning Event,Research,TXFLC
ORGANIZER;CN="CHILDREN AT RISK":MAILTO:info@childrenatrisk.org 
END:VEVENT
END:VCALENDAR